BEGIN:VCALENDAR
VERSION:2.0
PRODID:-//Tukios.com/
BEGIN:VEVENT
UID:884c0e85-66d0-4642-af88-990c95ec9009@www.wintzrayfuneralhome.com
DTSTAMP:20260421T042150Z
DTSTART:20260425T190000Z
DTEND:20260425T200000Z
SUMMARY:Mass of Christian Burial
DESCRIPTION:
URL:https://www.wintzrayfuneralhome.com/obituaries/s-norma-norton-osb
LOCATION: 1005 W 8th St  Yankton SD 57078
GEO:42.8722721;-97.4094853
END:VEVENT
END:VCALENDAR