BEGIN:VCALENDAR
VERSION:2.0
PRODID:-//Tukios.com/
BEGIN:VEVENT
UID:0dfa072d-e420-4819-b005-e6071ebe4e42@www.wintzrayfuneralhome.com
DTSTAMP:20260421T041802Z
DTSTART:20260425T000000Z
DTEND:20260425T010000Z
SUMMARY:Wake Service
DESCRIPTION:
URL:https://www.wintzrayfuneralhome.com/obituaries/s-norma-norton-osb
LOCATION: 1005 W 8th St  Yankton SD 57078
GEO:42.8722721;-97.4094853
END:VEVENT
END:VCALENDAR