BEGIN:VCALENDAR
VERSION:2.0
PRODID:-//Tukios.com/
BEGIN:VEVENT
UID:c403b35d-1c1b-4bb0-93f9-65b34d514e80@www.wintzrayfuneralhome.com
DTSTAMP:20260420T011249Z
DTSTART:20260501T140000Z
DTEND:20260501T150000Z
SUMMARY:Celebration of Life
DESCRIPTION:
URL:https://www.wintzrayfuneralhome.com/obituaries/earl-erickson
LOCATION:Wintz & Ray Funeral Home 2901 Douglas Avenue  Yankton SD 57078
GEO:42.9056198;-97.3925595
END:VEVENT
END:VCALENDAR