BEGIN:VCALENDAR
VERSION:2.0
PRODID:-//Tukios.com/
BEGIN:VEVENT
UID:0947017a-f5ae-4fab-b958-c8048341f44b@www.wintzrayfuneralhome.com
DTSTAMP:20260422T021946Z
DTSTART:20260424T150000Z
DTEND:20260424T160000Z
SUMMARY:Visitation
DESCRIPTION:
URL:https://www.wintzrayfuneralhome.com/obituaries/cindy-wuestewald
LOCATION: 2901 Douglas Ave  Yankton SD 57078
GEO:42.9056198;-97.3925595
END:VEVENT
END:VCALENDAR