BEGIN:VCALENDAR
VERSION:2.0
PRODID:-//Tukios.com/
BEGIN:VEVENT
UID:b46014b8-4e2e-4331-90bf-296a725808f8@www.wintzrayfuneralhome.com
DTSTAMP:20260422T022654Z
DTSTART:20260424T160000Z
DTEND:20260424T170000Z
SUMMARY:Memorial Service
DESCRIPTION:
URL:https://www.wintzrayfuneralhome.com/obituaries/cindy-wuestewald
LOCATION: 2901 Douglas Ave  Yankton SD 57078
GEO:42.9056198;-97.3925595
END:VEVENT
END:VCALENDAR