BEGIN:VCALENDAR
VERSION:2.0
PRODID:-//Tukios.com/
BEGIN:VEVENT
UID:d063b76e-5bc8-4b6a-bb5c-20042b45b87f@www.wintzrayfuneralhome.com
DTSTAMP:20260421T083659Z
DTSTART:20260220T160000Z
DTEND:20260220T163000Z
SUMMARY:Visitation
DESCRIPTION:
URL:https://www.wintzrayfuneralhome.com/obituaries/beverly-olesen
LOCATION: 203 W Franklin St  Hartington NE 68739
GEO:42.6193332;-97.2670981
END:VEVENT
END:VCALENDAR